Package: fmrs Version: 1.17.0 Command: /Library/Frameworks/R.framework/Resources/bin/R CMD build --keep-empty-dirs --no-resave-data fmrs StartedAt: 2025-02-09 16:47:44 -0500 (Sun, 09 Feb 2025) EndedAt: 2025-02-09 16:48:03 -0500 (Sun, 09 Feb 2025) EllapsedTime: 19.5 seconds RetCode: 0 Status: OK PackageFile: fmrs_1.17.0.tar.gz PackageFileSize: 46.97 KiB