Package: fmrs Version: 1.17.0 Command: /Library/Frameworks/R.framework/Resources/bin/R CMD check --install=check:fmrs.install-out.txt --library=/Library/Frameworks/R.framework/Resources/library --no-vignettes --timings fmrs_1.17.0.tar.gz StartedAt: 2025-02-09 20:46:47 -0500 (Sun, 09 Feb 2025) EndedAt: 2025-02-09 20:47:47 -0500 (Sun, 09 Feb 2025) EllapsedTime: 60.8 seconds RetCode: 0 Status: OK CheckDir: fmrs.Rcheck Warnings: 0