Package: fmrs Version: 1.17.0 Command: /home/biocbuild/bbs-3.21-bioc/R/bin/R CMD INSTALL fmrs StartedAt: 2025-02-09 15:05:44 -0500 (Sun, 09 Feb 2025) EndedAt: 2025-02-09 15:06:01 -0500 (Sun, 09 Feb 2025) EllapsedTime: 17.1 seconds RetCode: 0 Status: OK