Package: fmrs Version: 1.17.0 Command: E:\biocbuild\bbs-3.21-bioc\R\bin\R.exe CMD check --no-multiarch --install=check:fmrs.install-out.txt --library=E:\biocbuild\bbs-3.21-bioc\R\library --no-vignettes --timings fmrs_1.17.0.tar.gz StartedAt: 2025-02-10 01:12:32 -0500 (Mon, 10 Feb 2025) EndedAt: 2025-02-10 01:13:39 -0500 (Mon, 10 Feb 2025) EllapsedTime: 66.1 seconds RetCode: 0 Status: OK CheckDir: fmrs.Rcheck Warnings: 0