Package: fmrs Version: 1.17.0 Command: E:\biocbuild\bbs-3.21-bioc\R\bin\R.exe CMD INSTALL fmrs StartedAt: 2025-02-09 15:55:00 -0500 (Sun, 09 Feb 2025) EndedAt: 2025-02-09 15:55:25 -0500 (Sun, 09 Feb 2025) EllapsedTime: 24.8 seconds RetCode: 0 Status: OK