Package: fobitools Version: 1.15.1 Command: /home/biocbuild/R/R/bin/R CMD build --keep-empty-dirs --no-resave-data fobitools StartedAt: 2025-01-28 22:58:35 -0000 (Tue, 28 Jan 2025) EndedAt: 2025-01-28 23:00:14 -0000 (Tue, 28 Jan 2025) EllapsedTime: 99.0 seconds RetCode: 0 Status: OK PackageFile: fobitools_1.15.1.tar.gz PackageFileSize: 3.478 MiB