Package: fobitools Version: 1.15.1 Command: rm -rf fobitools.buildbin-libdir && mkdir fobitools.buildbin-libdir && /Users/biocbuild/BBS/utils/build-universal.sh fobitools_1.15.1.tar.gz /Library/Frameworks/R.framework/Resources/bin/R fobitools.buildbin-libdir StartedAt: 2025-02-10 00:54:08 -0500 (Mon, 10 Feb 2025) EndedAt: 2025-02-10 00:54:29 -0500 (Mon, 10 Feb 2025) EllapsedTime: 21.0 seconds RetCode: 0 Status: OK PackageFile: fobitools_1.15.1.tgz PackageFileSize: 4.212 MiB