Package: fobitools Version: 1.15.1 Command: /Library/Frameworks/R.framework/Resources/bin/R CMD build --keep-empty-dirs --no-resave-data fobitools StartedAt: 2025-02-03 16:48:57 -0500 (Mon, 03 Feb 2025) EndedAt: 2025-02-03 16:50:16 -0500 (Mon, 03 Feb 2025) EllapsedTime: 79.1 seconds RetCode: 0 Status: OK PackageFile: fobitools_1.15.1.tar.gz PackageFileSize: 4.78 MiB