Package: fobitools Version: 1.15.1 Command: /Library/Frameworks/R.framework/Resources/bin/R CMD check --install=check:fobitools.install-out.txt --library=/Library/Frameworks/R.framework/Resources/library --no-vignettes --timings fobitools_1.15.1.tar.gz StartedAt: 2025-02-03 20:36:18 -0500 (Mon, 03 Feb 2025) EndedAt: 2025-02-03 20:40:26 -0500 (Mon, 03 Feb 2025) EllapsedTime: 248.1 seconds RetCode: 0 Status: OK CheckDir: fobitools.Rcheck Warnings: 0