Package: fobitools Version: 1.15.1 Command: /home/biocbuild/bbs-3.21-bioc/R/bin/R CMD build --keep-empty-dirs --no-resave-data fobitools StartedAt: 2025-02-05 17:17:40 -0500 (Wed, 05 Feb 2025) EndedAt: 2025-02-05 17:18:47 -0500 (Wed, 05 Feb 2025) EllapsedTime: 67.1 seconds RetCode: 0 Status: OK PackageFile: fobitools_1.15.1.tar.gz PackageFileSize: 4.94 MiB