Package: fobitools Version: 1.15.1 Command: /home/biocbuild/bbs-3.21-bioc/R/bin/R CMD check --install=check:fobitools.install-out.txt --library=/home/biocbuild/bbs-3.21-bioc/R/site-library --timings fobitools_1.15.1.tar.gz StartedAt: 2025-02-09 22:24:45 -0500 (Sun, 09 Feb 2025) EndedAt: 2025-02-09 22:29:21 -0500 (Sun, 09 Feb 2025) EllapsedTime: 276.4 seconds RetCode: 0 Status: OK CheckDir: fobitools.Rcheck Warnings: 0