Package: fobitools Version: 1.15.1 Command: /home/biocbuild/bbs-3.21-bioc/R/bin/R CMD INSTALL fobitools StartedAt: 2025-02-05 15:10:14 -0500 (Wed, 05 Feb 2025) EndedAt: 2025-02-05 15:10:27 -0500 (Wed, 05 Feb 2025) EllapsedTime: 12.8 seconds RetCode: 0 Status: OK