Package: fobitools Version: 1.15.1 Command: chmod a+r fobitools -R && E:\biocbuild\bbs-3.21-bioc\R\bin\R.exe CMD build --keep-empty-dirs --no-resave-data fobitools StartedAt: 2025-02-03 18:58:13 -0500 (Mon, 03 Feb 2025) EndedAt: 2025-02-03 19:00:00 -0500 (Mon, 03 Feb 2025) EllapsedTime: 106.7 seconds RetCode: 0 Status: OK PackageFile: fobitools_1.15.1.tar.gz PackageFileSize: 3.134 MiB