Package: fobitools Version: 1.15.1 Command: E:\biocbuild\bbs-3.21-bioc\R\bin\R.exe CMD check --no-multiarch --install=check:fobitools.install-out.txt --library=E:\biocbuild\bbs-3.21-bioc\R\library --no-vignettes --timings fobitools_1.15.1.tar.gz StartedAt: 2025-02-06 01:43:34 -0500 (Thu, 06 Feb 2025) EndedAt: 2025-02-06 01:48:21 -0500 (Thu, 06 Feb 2025) EllapsedTime: 286.6 seconds RetCode: 0 Status: OK CheckDir: fobitools.Rcheck Warnings: 0