Package: fobitools Version: 1.15.1 Command: E:\biocbuild\bbs-3.21-bioc\R\bin\R.exe CMD INSTALL fobitools StartedAt: 2025-02-09 16:02:08 -0500 (Sun, 09 Feb 2025) EndedAt: 2025-02-09 16:02:37 -0500 (Sun, 09 Feb 2025) EllapsedTime: 28.6 seconds RetCode: 0 Status: OK