Package: frenchFISH Version: 1.19.0 Command: /Library/Frameworks/R.framework/Resources/bin/R CMD INSTALL frenchFISH StartedAt: 2025-02-04 15:21:45 -0500 (Tue, 04 Feb 2025) EndedAt: 2025-02-04 15:21:46 -0500 (Tue, 04 Feb 2025) EllapsedTime: 1.1 seconds RetCode: 0 Status: OK