Package: frenchFISH Version: 1.19.0 Command: /home/biocbuild/R/R/bin/R CMD build --keep-empty-dirs --no-resave-data frenchFISH StartedAt: 2025-01-28 22:58:54 -0000 (Tue, 28 Jan 2025) EndedAt: 2025-01-28 22:59:01 -0000 (Tue, 28 Jan 2025) EllapsedTime: 7.0 seconds RetCode: 0 Status: OK PackageFile: frenchFISH_1.19.0.tar.gz PackageFileSize: 21.61 KiB