Package: frenchFISH Version: 1.19.0 Command: rm -rf frenchFISH.buildbin-libdir && mkdir frenchFISH.buildbin-libdir && /Users/biocbuild/BBS/utils/build-universal.sh frenchFISH_1.19.0.tar.gz /Library/Frameworks/R.framework/Resources/bin/R frenchFISH.buildbin-libdir StartedAt: 2025-02-10 00:54:09 -0500 (Mon, 10 Feb 2025) EndedAt: 2025-02-10 00:54:16 -0500 (Mon, 10 Feb 2025) EllapsedTime: 7.1 seconds RetCode: 0 Status: OK PackageFile: frenchFISH_1.19.0.tgz PackageFileSize: 51.99 KiB