Package: frenchFISH Version: 1.19.0 Command: /Library/Frameworks/R.framework/Resources/bin/R CMD check --install=check:frenchFISH.install-out.txt --library=/Library/Frameworks/R.framework/Resources/library --no-vignettes --timings frenchFISH_1.19.0.tar.gz StartedAt: 2025-02-12 20:35:41 -0500 (Wed, 12 Feb 2025) EndedAt: 2025-02-12 20:36:14 -0500 (Wed, 12 Feb 2025) EllapsedTime: 32.5 seconds RetCode: 0 Status: OK CheckDir: frenchFISH.Rcheck Warnings: 0