Package: frenchFISH Version: 1.19.0 Command: /Library/Frameworks/R.framework/Resources/bin/R CMD INSTALL frenchFISH StartedAt: 2025-02-09 15:34:36 -0500 (Sun, 09 Feb 2025) EndedAt: 2025-02-09 15:34:40 -0500 (Sun, 09 Feb 2025) EllapsedTime: 3.4 seconds RetCode: 0 Status: OK