Package: frenchFISH Version: 1.19.0 Command: /home/biocbuild/bbs-3.21-bioc/R/bin/R CMD INSTALL frenchFISH StartedAt: 2025-02-09 15:09:55 -0500 (Sun, 09 Feb 2025) EndedAt: 2025-02-09 15:10:04 -0500 (Sun, 09 Feb 2025) EllapsedTime: 9.1 seconds RetCode: 0 Status: OK