Package: frenchFISH Version: 1.19.0 Command: rm -rf frenchFISH.buildbin-libdir && mkdir frenchFISH.buildbin-libdir && E:\biocbuild\bbs-3.21-bioc\R\bin\R.exe CMD INSTALL --build --library=frenchFISH.buildbin-libdir frenchFISH_1.19.0.tar.gz StartedAt: 2025-02-13 07:57:23 -0500 (Thu, 13 Feb 2025) EndedAt: 2025-02-13 07:57:43 -0500 (Thu, 13 Feb 2025) EllapsedTime: 19.4 seconds RetCode: 0 Status: OK PackageFile: frenchFISH_1.19.0.zip PackageFileSize: 56.55 KiB