Package: frenchFISH Version: 1.19.0 Command: chmod a+r frenchFISH -R && E:\biocbuild\bbs-3.21-bioc\R\bin\R.exe CMD build --keep-empty-dirs --no-resave-data frenchFISH StartedAt: 2025-02-09 18:46:43 -0500 (Sun, 09 Feb 2025) EndedAt: 2025-02-09 18:47:01 -0500 (Sun, 09 Feb 2025) EllapsedTime: 18.0 seconds RetCode: 0 Status: OK PackageFile: frenchFISH_1.19.0.tar.gz PackageFileSize: 21.1 KiB