Package: funOmics Version: 1.1.0 Command: rm -rf funOmics.buildbin-libdir && mkdir funOmics.buildbin-libdir && /Users/biocbuild/BBS/utils/build-universal.sh funOmics_1.1.0.tar.gz /Library/Frameworks/R.framework/Resources/bin/R funOmics.buildbin-libdir StartedAt: 2025-02-09 22:14:51 -0500 (Sun, 09 Feb 2025) EndedAt: 2025-02-09 22:14:59 -0500 (Sun, 09 Feb 2025) EllapsedTime: 8.2 seconds RetCode: 0 Status: OK PackageFile: funOmics_1.1.0.tgz PackageFileSize: 71.25 KiB