Package: funOmics Version: 1.1.0 Command: /Library/Frameworks/R.framework/Resources/bin/R CMD build --keep-empty-dirs --no-resave-data funOmics StartedAt: 2025-02-12 16:21:37 -0500 (Wed, 12 Feb 2025) EndedAt: 2025-02-12 16:24:16 -0500 (Wed, 12 Feb 2025) EllapsedTime: 158.8 seconds RetCode: 0 Status: OK PackageFile: funOmics_1.1.0.tar.gz PackageFileSize: 52.51 KiB