Package: funOmics Version: 1.1.0 Command: rm -rf funOmics.buildbin-libdir && mkdir funOmics.buildbin-libdir && /Users/biocbuild/BBS/utils/build-universal.sh funOmics_1.1.0.tar.gz /Library/Frameworks/R.framework/Resources/bin/R funOmics.buildbin-libdir StartedAt: 2025-02-10 00:54:10 -0500 (Mon, 10 Feb 2025) EndedAt: 2025-02-10 00:54:38 -0500 (Mon, 10 Feb 2025) EllapsedTime: 28.0 seconds RetCode: 0 Status: OK PackageFile: funOmics_1.1.0.tgz PackageFileSize: 70.58 KiB