Package: funOmics Version: 1.1.0 Command: /Library/Frameworks/R.framework/Resources/bin/R CMD check --install=check:funOmics.install-out.txt --library=/Library/Frameworks/R.framework/Resources/library --no-vignettes --timings funOmics_1.1.0.tar.gz StartedAt: 2025-02-09 20:47:39 -0500 (Sun, 09 Feb 2025) EndedAt: 2025-02-09 20:51:39 -0500 (Sun, 09 Feb 2025) EllapsedTime: 239.3 seconds RetCode: 0 Status: OK CheckDir: funOmics.Rcheck Warnings: 0