Package: funOmics Version: 1.1.0 Command: chmod a+r funOmics -R && E:\biocbuild\bbs-3.21-bioc\R\bin\R.exe CMD build --keep-empty-dirs --no-resave-data funOmics StartedAt: 2025-02-12 18:51:10 -0500 (Wed, 12 Feb 2025) EndedAt: 2025-02-12 18:58:00 -0500 (Wed, 12 Feb 2025) EllapsedTime: 410.0 seconds RetCode: 0 Status: OK PackageFile: funOmics_1.1.0.tar.gz PackageFileSize: 52.43 KiB