Package: gCrisprTools Version: 2.13.0 Command: /Library/Frameworks/R.framework/Resources/bin/R CMD check --install=check:gCrisprTools.install-out.txt --library=/Library/Frameworks/R.framework/Resources/library --no-vignettes --timings gCrisprTools_2.13.0.tar.gz StartedAt: 2025-02-05 19:24:21 -0500 (Wed, 05 Feb 2025) EndedAt: 2025-02-05 19:26:36 -0500 (Wed, 05 Feb 2025) EllapsedTime: 135.6 seconds RetCode: 0 Status: OK CheckDir: gCrisprTools.Rcheck Warnings: 0