Package: gCrisprTools Version: 2.13.0 Command: /Library/Frameworks/R.framework/Resources/bin/R CMD INSTALL gCrisprTools StartedAt: 2025-02-05 15:14:59 -0500 (Wed, 05 Feb 2025) EndedAt: 2025-02-05 15:15:10 -0500 (Wed, 05 Feb 2025) EllapsedTime: 10.5 seconds RetCode: 0 Status: OK