Package: gCrisprTools Version: 2.13.0 Command: /home/biocbuild/R/R/bin/R CMD check --install=check:gCrisprTools.install-out.txt --library=/home/biocbuild/R/R/site-library --no-vignettes --timings gCrisprTools_2.13.0.tar.gz StartedAt: 2025-01-28 10:45:59 -0000 (Tue, 28 Jan 2025) EndedAt: 2025-01-28 10:53:50 -0000 (Tue, 28 Jan 2025) EllapsedTime: 470.4 seconds RetCode: 0 Status: OK CheckDir: gCrisprTools.Rcheck Warnings: 0