Package: gCrisprTools Version: 2.13.0 Command: rm -rf gCrisprTools.buildbin-libdir && mkdir gCrisprTools.buildbin-libdir && /Users/biocbuild/BBS/utils/build-universal.sh gCrisprTools_2.13.0.tar.gz /Library/Frameworks/R.framework/Resources/bin/R gCrisprTools.buildbin-libdir StartedAt: 2025-02-06 00:31:16 -0500 (Thu, 06 Feb 2025) EndedAt: 2025-02-06 00:31:55 -0500 (Thu, 06 Feb 2025) EllapsedTime: 39.5 seconds RetCode: 0 Status: OK PackageFile: gCrisprTools_2.13.0.tgz PackageFileSize: 4.954 MiB