Package: gCrisprTools Version: 2.13.0 Command: /Library/Frameworks/R.framework/Resources/bin/R CMD build --keep-empty-dirs --no-resave-data gCrisprTools StartedAt: 2025-02-05 16:45:21 -0500 (Wed, 05 Feb 2025) EndedAt: 2025-02-05 16:49:30 -0500 (Wed, 05 Feb 2025) EllapsedTime: 249.4 seconds RetCode: 0 Status: OK PackageFile: gCrisprTools_2.13.0.tar.gz PackageFileSize: 4.704 MiB