Package: gCrisprTools Version: 2.13.0 Command: /home/biocbuild/bbs-3.21-bioc/R/bin/R CMD build --keep-empty-dirs --no-resave-data gCrisprTools StartedAt: 2025-02-05 17:19:21 -0500 (Wed, 05 Feb 2025) EndedAt: 2025-02-05 17:22:35 -0500 (Wed, 05 Feb 2025) EllapsedTime: 193.3 seconds RetCode: 0 Status: OK PackageFile: gCrisprTools_2.13.0.tar.gz PackageFileSize: 4.39 MiB