Package: gCrisprTools Version: 2.13.0 Command: /home/biocbuild/bbs-3.21-bioc/R/bin/R CMD INSTALL gCrisprTools StartedAt: 2025-02-05 15:17:55 -0500 (Wed, 05 Feb 2025) EndedAt: 2025-02-05 15:18:25 -0500 (Wed, 05 Feb 2025) EllapsedTime: 30.6 seconds RetCode: 0 Status: OK