Package: gCrisprTools Version: 2.13.0 Command: rm -rf gCrisprTools.buildbin-libdir && mkdir gCrisprTools.buildbin-libdir && E:\biocbuild\bbs-3.21-bioc\R\bin\R.exe CMD INSTALL --build --library=gCrisprTools.buildbin-libdir gCrisprTools_2.13.0.tar.gz StartedAt: 2025-02-06 08:04:41 -0500 (Thu, 06 Feb 2025) EndedAt: 2025-02-06 08:06:13 -0500 (Thu, 06 Feb 2025) EllapsedTime: 92.5 seconds RetCode: 0 Status: OK PackageFile: gCrisprTools_2.13.0.zip PackageFileSize: 3.327 MiB