Package: gCrisprTools Version: 2.13.0 Command: E:\biocbuild\bbs-3.21-bioc\R\bin\R.exe CMD INSTALL gCrisprTools StartedAt: 2025-02-05 15:51:28 -0500 (Wed, 05 Feb 2025) EndedAt: 2025-02-05 15:52:34 -0500 (Wed, 05 Feb 2025) EllapsedTime: 65.7 seconds RetCode: 0 Status: OK