Package: gDR Version: 1.5.1 Command: rm -rf gDR.buildbin-libdir && mkdir gDR.buildbin-libdir && /Users/biocbuild/BBS/utils/build-universal.sh gDR_1.5.1.tar.gz /Library/Frameworks/R.framework/Resources/bin/R gDR.buildbin-libdir StartedAt: 2025-02-04 22:17:01 -0500 (Tue, 04 Feb 2025) EndedAt: 2025-02-04 22:17:12 -0500 (Tue, 04 Feb 2025) EllapsedTime: 11.2 seconds RetCode: 0 Status: OK PackageFile: gDR_1.5.1.tgz PackageFileSize: 279.3 KiB