Package: gDR Version: 1.5.1 Command: /Library/Frameworks/R.framework/Resources/bin/R CMD build --keep-empty-dirs --no-resave-data gDR StartedAt: 2025-02-09 16:22:56 -0500 (Sun, 09 Feb 2025) EndedAt: 2025-02-09 16:23:16 -0500 (Sun, 09 Feb 2025) EllapsedTime: 19.2 seconds RetCode: 0 Status: OK PackageFile: gDR_1.5.1.tar.gz PackageFileSize: 276.6 KiB