Package: gDR Version: 1.5.1 Command: /Library/Frameworks/R.framework/Resources/bin/R CMD INSTALL gDR StartedAt: 2025-02-09 15:26:57 -0500 (Sun, 09 Feb 2025) EndedAt: 2025-02-09 15:27:07 -0500 (Sun, 09 Feb 2025) EllapsedTime: 9.8 seconds RetCode: 0 Status: OK