Package: gDR Version: 1.5.1 Command: /home/biocbuild/R/R/bin/R CMD build --keep-empty-dirs --no-resave-data gDR StartedAt: 2025-01-28 23:01:29 -0000 (Tue, 28 Jan 2025) EndedAt: 2025-01-28 23:02:42 -0000 (Tue, 28 Jan 2025) EllapsedTime: 73.0 seconds RetCode: 0 Status: OK PackageFile: gDR_1.5.1.tar.gz PackageFileSize: 299.6 KiB