Package: gDR Version: 1.5.1 Command: /home/biocbuild/R/R/bin/R CMD INSTALL gDR StartedAt: 2025-01-29 20:32:05 -0000 (Wed, 29 Jan 2025) EndedAt: 2025-01-29 20:32:36 -0000 (Wed, 29 Jan 2025) EllapsedTime: 31.5 seconds RetCode: 0 Status: OK