Package: gDR Version: 1.5.1 Command: /Library/Frameworks/R.framework/Resources/bin/R CMD INSTALL gDR StartedAt: 2025-02-04 15:41:13 -0500 (Tue, 04 Feb 2025) EndedAt: 2025-02-04 15:41:45 -0500 (Tue, 04 Feb 2025) EllapsedTime: 32.3 seconds RetCode: 0 Status: OK