Package: gDR Version: 1.5.1 Command: /home/biocbuild/bbs-3.21-bioc/R/bin/R CMD build --keep-empty-dirs --no-resave-data gDR StartedAt: 2025-02-09 17:19:23 -0500 (Sun, 09 Feb 2025) EndedAt: 2025-02-09 17:20:13 -0500 (Sun, 09 Feb 2025) EllapsedTime: 50.1 seconds RetCode: 0 Status: OK PackageFile: gDR_1.5.1.tar.gz PackageFileSize: 276.7 KiB