Package: gDR Version: 1.5.1 Command: chmod a+r gDR -R && E:\biocbuild\bbs-3.21-bioc\R\bin\R.exe CMD build --keep-empty-dirs --no-resave-data gDR StartedAt: 2025-02-09 18:49:29 -0500 (Sun, 09 Feb 2025) EndedAt: 2025-02-09 18:50:29 -0500 (Sun, 09 Feb 2025) EllapsedTime: 60.0 seconds RetCode: 0 Status: OK PackageFile: gDR_1.5.1.tar.gz PackageFileSize: 276.8 KiB