Package: gDR Version: 1.5.1 Command: E:\biocbuild\bbs-3.21-bioc\R\bin\R.exe CMD check --no-multiarch --install=check:gDR.install-out.txt --library=E:\biocbuild\bbs-3.21-bioc\R\library --no-vignettes --timings gDR_1.5.1.tar.gz StartedAt: 2025-02-10 01:16:50 -0500 (Mon, 10 Feb 2025) EndedAt: 2025-02-10 01:20:14 -0500 (Mon, 10 Feb 2025) EllapsedTime: 203.7 seconds RetCode: 0 Status: OK CheckDir: gDR.Rcheck Warnings: 0