Package: gDRcore Version: 1.5.4 Command: rm -rf gDRcore.buildbin-libdir && mkdir gDRcore.buildbin-libdir && /Users/biocbuild/BBS/utils/build-universal.sh gDRcore_1.5.4.tar.gz /Library/Frameworks/R.framework/Resources/bin/R gDRcore.buildbin-libdir StartedAt: 2025-02-09 22:15:08 -0500 (Sun, 09 Feb 2025) EndedAt: 2025-02-09 22:15:16 -0500 (Sun, 09 Feb 2025) EllapsedTime: 8.1 seconds RetCode: 0 Status: OK PackageFile: gDRcore_1.5.4.tgz PackageFileSize: 1.229 MiB