Package: gDRcore Version: 1.5.4 Command: /Library/Frameworks/R.framework/Resources/bin/R CMD build --keep-empty-dirs --no-resave-data gDRcore StartedAt: 2025-02-09 16:23:05 -0500 (Sun, 09 Feb 2025) EndedAt: 2025-02-09 16:23:21 -0500 (Sun, 09 Feb 2025) EllapsedTime: 16.2 seconds RetCode: 0 Status: OK PackageFile: gDRcore_1.5.4.tar.gz PackageFileSize: 1.041 MiB