Package: gDRcore Version: 1.5.4 Command: rm -rf gDRcore.buildbin-libdir && mkdir gDRcore.buildbin-libdir && /Users/biocbuild/BBS/utils/build-universal.sh gDRcore_1.5.4.tar.gz /Library/Frameworks/R.framework/Resources/bin/R gDRcore.buildbin-libdir StartedAt: 2025-02-13 00:37:39 -0500 (Thu, 13 Feb 2025) EndedAt: 2025-02-13 00:38:04 -0500 (Thu, 13 Feb 2025) EllapsedTime: 24.3 seconds RetCode: 0 Status: OK PackageFile: gDRcore_1.5.4.tgz PackageFileSize: 1.277 MiB