Package: gDRcore Version: 1.5.4 Command: /Library/Frameworks/R.framework/Resources/bin/R CMD check --install=check:gDRcore.install-out.txt --library=/Library/Frameworks/R.framework/Resources/library --no-vignettes --timings gDRcore_1.5.4.tar.gz StartedAt: 2025-02-09 20:49:42 -0500 (Sun, 09 Feb 2025) EndedAt: 2025-02-09 20:56:17 -0500 (Sun, 09 Feb 2025) EllapsedTime: 394.5 seconds RetCode: 0 Status: OK CheckDir: gDRcore.Rcheck Warnings: 0